BEGIN:VCALENDAR
VERSION:2.0
PRODID:-//wp-events-plugin.com//7.1.7//EN
TZID:Europe/Berlin
X-WR-TIMEZONE:Europe/Berlin
BEGIN:VEVENT
UID:142@gzv-osterode.de
DTSTART;TZID=Europe/Berlin;VALUE=DATE:20251101
DTEND;TZID=Europe/Berlin;VALUE=DATE:20251103
DTSTAMP:20250113T130712Z
URL:https://gzv-osterode.de/Termine/vereinsschau-ktzv-harzhorn/
SUMMARY:Vereinsschau KTZV Harzhorn
DESCRIPTION:
ATTACH;FMTTYPE=image/jpeg:https://gzv-osterode.de/wp-content/uploads/2023/
 02/KV-Logo.jpg
CATEGORIES:Ausstellung,öffentliche Veranstaltung (Gäste und
 Interessierte sind herzlich willkommen),Veranstaltung anderer KV
 Südhannover-Ortsvereine
END:VEVENT
BEGIN:VTIMEZONE
TZID:Europe/Berlin
X-LIC-LOCATION:Europe/Berlin
BEGIN:STANDARD
DTSTART:20251026T020000
TZOFFSETFROM:+0200
TZOFFSETTO:+0100
TZNAME:CET
END:STANDARD
END:VTIMEZONE
END:VCALENDAR