BEGIN:VCALENDAR
VERSION:2.0
PRODID:-//wp-events-plugin.com//7.1.7//EN
TZID:Europe/Berlin
X-WR-TIMEZONE:Europe/Berlin
BEGIN:VEVENT
UID:196@gzv-osterode.de
DTSTART;TZID=Europe/Berlin:20260314T100000
DTEND;TZID=Europe/Berlin:20260314T130000
DTSTAMP:20260210T152209Z
URL:https://gzv-osterode.de/Termine/putztag-in-foerste-4/
SUMMARY:Putztag in Förste
DESCRIPTION:Wir beteiligen uns wie auch in den Jahren davor am Putztag in F
 örste.\n\n&nbsp\;\n\nUhrzeit wird noch bekannt gegeben.
ATTACH;FMTTYPE=image/jpeg:https://gzv-osterode.de/wp-content/uploads/2023/
 03/putztag_foerste.jpg
CATEGORIES:öffentliche Veranstaltung (Gäste und Interessierte sind
 herzlich willkommen)
END:VEVENT
BEGIN:VTIMEZONE
TZID:Europe/Berlin
X-LIC-LOCATION:Europe/Berlin
BEGIN:STANDARD
DTSTART:20251026T020000
TZOFFSETFROM:+0200
TZOFFSETTO:+0100
TZNAME:CET
END:STANDARD
END:VTIMEZONE
END:VCALENDAR