BEGIN:VCALENDAR
VERSION:2.0
PRODID:-//wp-events-plugin.com//7.1.7//EN
TZID:Europe/Berlin
X-WR-TIMEZONE:Europe/Berlin
BEGIN:VEVENT
UID:92@gzv-osterode.de
DTSTART;TZID=Europe/Berlin:20241012T000000
DTEND;TZID=Europe/Berlin:20241013T000000
DTSTAMP:20240826T071905Z
URL:https://gzv-osterode.de/Termine/kv-schau-des-kv-suedharz/
SUMMARY:KV-Schau des KV Südharz
DESCRIPTION:Die diesjährige KV-Schau des KV Südharz wird vom GZV Herzberg
  ausgetragen.\n\nAusstellungsdaten:\nDonnerstag 10.10.2024 Einlieferung: a
 b 16.00 Uhr bis 20.00\nFreitag 11.10.2024 Bewertung der Tiere\nSamstag 12.
 10.2021 Ausstellung 10.00 Uhr - geöffnet bis 18.00 Uhr\nSonntag 13.10.202
 1 Ausstellung 10.00 Uhr - 16.00 Uhr\nSonntag 13.10.2024 Preisverleihung 15
 .00\nSonntag 13.10.2021 Tierausgabe ab 16.00 Uhr
ATTACH;FMTTYPE=image/jpeg:https://gzv-osterode.de/wp-content/uploads/2024/
 04/Logo-GZV-Herzberg.jpg
CATEGORIES:Ausstellung,Jugend,KV Südharz-Veranstaltung,öffentliche
 Veranstaltung (Gäste und Interessierte sind herzlich willkommen)
LOCATION:Reithalle Herzberg\, Im Beutersfeld 2a\, Herzberg a. H.\, Niedersa
 chsen\, 37412\, Deutschland
X-APPLE-STRUCTURED-LOCATION;VALUE=URI;X-ADDRESS=Im Beutersfeld 2a\, Herzber
 g a. H.\, Niedersachsen\, 37412\, Deutschland;X-APPLE-RADIUS=100;X-TITLE=R
 eithalle Herzberg:geo:0,0
END:VEVENT
BEGIN:VTIMEZONE
TZID:Europe/Berlin
X-LIC-LOCATION:Europe/Berlin
BEGIN:DAYLIGHT
DTSTART:20240331T030000
TZOFFSETFROM:+0100
TZOFFSETTO:+0200
TZNAME:CEST
END:DAYLIGHT
END:VTIMEZONE
END:VCALENDAR